BEGIN:VCALENDAR
VERSION:2.0
PRODID:-//Hans Böckler Schule Fürth - Realschule und Wirtschaftschule - ECPv6.15.14//NONSGML v1.0//EN
CALSCALE:GREGORIAN
METHOD:PUBLISH
X-ORIGINAL-URL:https://www.hans-boeckler-schule.de
X-WR-CALDESC:Veranstaltungen für Hans Böckler Schule Fürth - Realschule und Wirtschaftschule
REFRESH-INTERVAL;VALUE=DURATION:PT1H
X-Robots-Tag:noindex
X-PUBLISHED-TTL:PT1H
BEGIN:VTIMEZONE
TZID:UTC
BEGIN:STANDARD
TZOFFSETFROM:+0000
TZOFFSETTO:+0000
TZNAME:UTC
DTSTART:20230101T000000
END:STANDARD
END:VTIMEZONE
BEGIN:VEVENT
DTSTART;TZID=UTC:20240418T183000
DTEND;TZID=UTC:20240418T200000
DTSTAMP:20260419T175532
CREATED:20230419T183520Z
LAST-MODIFIED:20240409T160018Z
UID:9407-1713465000-1713470400@www.hans-boeckler-schule.de
SUMMARY:Informationsabend Eltern der R6-Klassen
DESCRIPTION:Wir informieren Sie über die verschiedenen Zweige\, die Sie an der Realschule für Ihr Kind wählen können. Auf unserer Schul-HP finden Sie ergänzende Informationen.
URL:https://www.hans-boeckler-schule.de/event/informationsabend-eltern-der-r6-klassen/
LOCATION:Pausenhalle
END:VEVENT
BEGIN:VEVENT
DTSTART;TZID=UTC:20240425T183000
DTEND;TZID=UTC:20240425T210000
DTSTAMP:20260419T175532
CREATED:20230925T143446Z
LAST-MODIFIED:20240409T163019Z
UID:9943-1714069800-1714078800@www.hans-boeckler-schule.de
SUMMARY:Klassenelternabend für alle Klassen
DESCRIPTION:Liebe Eltern\, \nwir laden Sie ein zum zweiten Klassenelternabend. \nWir freuen uns auf Sie!
URL:https://www.hans-boeckler-schule.de/event/klassenelternabend-fuer-alle-klassen/
LOCATION:Hans-Böckler-Schule\, Fronmüllerstraße 30\, Fürth\, 90763\, Deutschland
END:VEVENT
END:VCALENDAR