BEGIN:VCALENDAR
VERSION:2.0
PRODID:-//Hans Böckler Schule Fürth - Realschule und Wirtschaftschule - ECPv6.15.14//NONSGML v1.0//EN
CALSCALE:GREGORIAN
METHOD:PUBLISH
X-WR-CALNAME:Hans Böckler Schule Fürth - Realschule und Wirtschaftschule
X-ORIGINAL-URL:https://www.hans-boeckler-schule.de
X-WR-CALDESC:Veranstaltungen für Hans Böckler Schule Fürth - Realschule und Wirtschaftschule
REFRESH-INTERVAL;VALUE=DURATION:PT1H
X-Robots-Tag:noindex
X-PUBLISHED-TTL:PT1H
BEGIN:VTIMEZONE
TZID:UTC
BEGIN:STANDARD
TZOFFSETFROM:+0000
TZOFFSETTO:+0000
TZNAME:UTC
DTSTART:20250101T000000
END:STANDARD
END:VTIMEZONE
BEGIN:VEVENT
DTSTART;VALUE=DATE:20260504
DTEND;VALUE=DATE:20260514
DTSTAMP:20260425T104953
CREATED:20260305T150342Z
LAST-MODIFIED:20260306T093330Z
UID:12044-1777852800-1778716799@www.hans-boeckler-schule.de
SUMMARY:Anmeldung Wirtschaftsschule (5. Klasse)
DESCRIPTION:
URL:https://www.hans-boeckler-schule.de/event/12044/
END:VEVENT
BEGIN:VEVENT
DTSTART;TZID=UTC:20260506T173000
DTEND;TZID=UTC:20260506T190000
DTSTAMP:20260425T104953
CREATED:20250513T101947Z
LAST-MODIFIED:20260423T092334Z
UID:11374-1778088600-1778094000@www.hans-boeckler-schule.de
SUMMARY:Infoabend Wahlpflichtfächergruppen (Realschule)
DESCRIPTION:
URL:https://www.hans-boeckler-schule.de/event/infoabend-wahlpflichtfaechergruppen-realschule/
LOCATION:Pausenhalle
CATEGORIES:Realschule
END:VEVENT
BEGIN:VEVENT
DTSTART;VALUE=DATE:20260511
DTEND;VALUE=DATE:20260514
DTSTAMP:20260425T104953
CREATED:20260305T150455Z
LAST-MODIFIED:20260423T110242Z
UID:12046-1778457600-1778716799@www.hans-boeckler-schule.de
SUMMARY:Anmeldung Realschule
DESCRIPTION:(nicht am 14.05.)
URL:https://www.hans-boeckler-schule.de/event/anmeldung-realschule/
END:VEVENT
BEGIN:VEVENT
DTSTART;VALUE=DATE:20260511
DTEND;VALUE=DATE:20260514
DTSTAMP:20260425T104953
CREATED:20260325T085545Z
LAST-MODIFIED:20260325T085545Z
UID:12119-1778457600-1778716799@www.hans-boeckler-schule.de
SUMMARY:Probeunterricht WS
DESCRIPTION:
URL:https://www.hans-boeckler-schule.de/event/probeunterricht-ws-2/
END:VEVENT
BEGIN:VEVENT
DTSTART;VALUE=DATE:20260519
DTEND;VALUE=DATE:20260522
DTSTAMP:20260425T104953
CREATED:20250401T152549Z
LAST-MODIFIED:20260325T085502Z
UID:11294-1779148800-1779407999@www.hans-boeckler-schule.de
SUMMARY:Probeunterricht RS
DESCRIPTION:
URL:https://www.hans-boeckler-schule.de/event/probeunterricht/
END:VEVENT
BEGIN:VEVENT
DTSTART;VALUE=DATE:20260526
DTEND;VALUE=DATE:20260606
DTSTAMP:20260425T104953
CREATED:20250226T080859Z
LAST-MODIFIED:20250920T143408Z
UID:11211-1779753600-1780703999@www.hans-boeckler-schule.de
SUMMARY:Pfingstferien
DESCRIPTION:
URL:https://www.hans-boeckler-schule.de/event/pfingstferien/
END:VEVENT
END:VCALENDAR